BEGIN:VCALENDAR
VERSION:2.0
PRODID:SchoolNow
CALSCALE:GREGORIAN
BEGIN:VEVENT
UID:26117a06-6361-11f0-a6b4-0ed8a4d2cc2d
DTSTAMP:20251216T214551Z
SUMMARY:Chicken Strips\, Mashed Potatoes with Gravy\,  Dinner Roll\,  apple
  sauce and 1% Milk
URL;VALUE=URI:https://www.kcud229.org/food-service/menu-calendar-feeds/elem
 entary-lunch-menu/calendar/8425104/chicken-strips-mashed-potatoes-with-gra
 vy-dinner-roll-apple-sauce-and-1-milk
DTSTART;VALUE=DATE:20260203
DTEND;VALUE=DATE:20260204
END:VEVENT
END:VCALENDAR
