BEGIN:VCALENDAR
VERSION:2.0
PRODID:SchoolNow
CALSCALE:GREGORIAN
BEGIN:VEVENT
UID:26117b46-6361-11f0-bb12-0ed8a4d2cc2d
DTSTAMP:20251216T214551Z
SUMMARY:Mozzerella Sticks\, Cucumbers\, Fruit and 1% Milk
URL;VALUE=URI:https://www.kcud229.org/food-service/menu-calendar-feeds/elem
 entary-lunch-menu/calendar/8425105/mozzerella-sticks-cucumbers-fruit-and-1
 -milk
DTSTART;VALUE=DATE:20260204
DTEND;VALUE=DATE:20260205
END:VEVENT
END:VCALENDAR
