BEGIN:VCALENDAR
VERSION:2.0
PRODID:SchoolNow
CALSCALE:GREGORIAN
BEGIN:VEVENT
UID:26117e3e-6361-11f0-8e7e-0ed8a4d2cc2d
DTSTAMP:20251216T214551Z
SUMMARY:Pull-A-Part Cheesy Garlic Bread\,  Baby Carrots\, Fruit and 1% Milk
URL;VALUE=URI:https://www.kcud229.org/food-service/menu-calendar-feeds/elem
 entary-lunch-menu/calendar/8425108/pull-a-part-cheesy-garlic-bread-baby-ca
 rrots-fruit-and-1-milk
DTSTART;VALUE=DATE:20260209
DTEND;VALUE=DATE:20260210
END:VEVENT
END:VCALENDAR
