BEGIN:VCALENDAR
VERSION:2.0
PRODID:SchoolNow
CALSCALE:GREGORIAN
BEGIN:VEVENT
UID:26117f2e-6361-11f0-bbb2-0ed8a4d2cc2d
DTSTAMP:20251216T214551Z
SUMMARY:Meatloaf with Dinner Roll\, Mashed Potatoes with Gravy\, Fruit and 
 1% Milk
URL;VALUE=URI:https://www.kcud229.org/food-service/menu-calendar-feeds/elem
 entary-lunch-menu/calendar/8425109/meatloaf-with-dinner-roll-mashed-potato
 es-with-gravy-fruit-and-1-milk
DTSTART;VALUE=DATE:20260210
DTEND;VALUE=DATE:20260211
END:VEVENT
END:VCALENDAR
