BEGIN:VCALENDAR
VERSION:2.0
PRODID:SchoolNow
CALSCALE:GREGORIAN
BEGIN:VEVENT
UID:2611801e-6361-11f0-9526-0ed8a4d2cc2d
DTSTAMP:20251216T214551Z
SUMMARY:Meatball Sub\, Celery Sticks\, Fruit and 1% Milk
URL;VALUE=URI:https://www.kcud229.org/food-service/menu-calendar-feeds/elem
 entary-lunch-menu/calendar/8425110/meatball-sub-celery-sticks-fruit-and-1-
 milk
DTSTART;VALUE=DATE:20260211
DTEND;VALUE=DATE:20260212
END:VEVENT
END:VCALENDAR
