BEGIN:VCALENDAR
VERSION:2.0
PRODID:SchoolNow
CALSCALE:GREGORIAN
BEGIN:VEVENT
UID:261181fe-6361-11f0-a105-0ed8a4d2cc2d
DTSTAMP:20251216T214551Z
SUMMARY:Mac and Cheese\, Garlic Toast\, Green Beans\, Fruit Cocktail & 1% M
 ilk
URL;VALUE=URI:https://www.kcud229.org/food-service/menu-calendar-feeds/elem
 entary-lunch-menu/calendar/8425112/mac-and-cheese-garlic-toast-green-beans
 -fruit-cocktail-1-milk
DTSTART;VALUE=DATE:20260220
DTEND;VALUE=DATE:20260221
END:VEVENT
END:VCALENDAR
