BEGIN:VCALENDAR
VERSION:2.0
PRODID:SchoolNow
CALSCALE:GREGORIAN
BEGIN:VEVENT
UID:261183c0-6361-11f0-8597-0ed8a4d2cc2d
DTSTAMP:20251216T214551Z
SUMMARY:Corn Dog\, Baby Carrots\, Fruit and 1% Milk
URL;VALUE=URI:https://www.kcud229.org/food-service/menu-calendar-feeds/elem
 entary-lunch-menu/calendar/8425114/corn-dog-baby-carrots-fruit-and-1-milk
DTSTART;VALUE=DATE:20260217
DTEND;VALUE=DATE:20260218
END:VEVENT
END:VCALENDAR
