BEGIN:VCALENDAR
VERSION:2.0
PRODID:SchoolNow
CALSCALE:GREGORIAN
BEGIN:VEVENT
UID:261184b0-6361-11f0-ad3f-0ed8a4d2cc2d
DTSTAMP:20251216T214551Z
SUMMARY:Bosco Sticks\, Baked Beans\, Fruit and 1% Milk
URL;VALUE=URI:https://www.kcud229.org/food-service/menu-calendar-feeds/elem
 entary-lunch-menu/calendar/8425115/bosco-sticks-baked-beans-fruit-and-1-mi
 lk
DTSTART;VALUE=DATE:20260218
DTEND;VALUE=DATE:20260219
END:VEVENT
END:VCALENDAR
