BEGIN:VCALENDAR
VERSION:2.0
PRODID:SchoolNow
CALSCALE:GREGORIAN
BEGIN:VEVENT
UID:26118762-6361-11f0-ac2e-0ed8a4d2cc2d
DTSTAMP:20251216T214551Z
SUMMARY:Hot dog on Bun\, Baby Carrots\, Fruit & 1% Milk
URL;VALUE=URI:https://www.kcud229.org/food-service/menu-calendar-feeds/elem
 entary-lunch-menu/calendar/8425118/hot-dog-on-bun-baby-carrots-fruit-1-mil
 k
DTSTART;VALUE=DATE:20260223
DTEND;VALUE=DATE:20260224
END:VEVENT
END:VCALENDAR
