BEGIN:VCALENDAR
VERSION:2.0
PRODID:SchoolNow
CALSCALE:GREGORIAN
BEGIN:VEVENT
UID:2611892e-6361-11f0-8fc1-0ed8a4d2cc2d
DTSTAMP:20251216T214551Z
SUMMARY:Max Sticks\, Baked Beans\, Fruit and 1% Milk
URL;VALUE=URI:https://www.kcud229.org/food-service/menu-calendar-feeds/elem
 entary-lunch-menu/calendar/8425120/max-sticks-baked-beans-fruit-and-1-milk
DTSTART;VALUE=DATE:20260225
DTEND;VALUE=DATE:20260226
END:VEVENT
END:VCALENDAR
