BEGIN:VCALENDAR
VERSION:2.0
PRODID:SchoolNow
CALSCALE:GREGORIAN
BEGIN:VEVENT
UID:26118a14-6361-11f0-94ad-0ed8a4d2cc2d
DTSTAMP:20251216T214551Z
SUMMARY:Cheese Pizza\, Cole Slaw\, Fruit and 1% Milk
URL;VALUE=URI:https://www.kcud229.org/food-service/menu-calendar-feeds/elem
 entary-lunch-menu/calendar/8425121/cheese-pizza-cole-slaw-fruit-and-1-milk
DTSTART;VALUE=DATE:20260226
DTEND;VALUE=DATE:20260227
END:VEVENT
END:VCALENDAR
