BEGIN:VCALENDAR
VERSION:2.0
PRODID:SchoolNow
CALSCALE:GREGORIAN
BEGIN:VEVENT
UID:f20a52f6-6729-11f0-a6c5-0affd29e4771
DTSTAMP:20251216T214551Z
SUMMARY:Fish Nuggets\, Green Beans\, Fruit and 1% Milk
URL;VALUE=URI:https://www.kcud229.org/food-service/menu-calendar-feeds/elem
 entary-lunch-menu/calendar/8437325/fish-nuggets-green-beans-fruit-and-1-mi
 lk
DTSTART;VALUE=DATE:20260227
DTEND;VALUE=DATE:20260228
END:VEVENT
END:VCALENDAR
