BEGIN:VCALENDAR
VERSION:2.0
PRODID:SchoolNow
CALSCALE:GREGORIAN
BEGIN:VEVENT
UID:bcec6f20-6bbe-11f0-884a-0a58a9feac02
DTSTAMP:20251216T214551Z
SUMMARY:Grilled Cheese\,  Green Beans\, Peaches and 1% Milk
URL;VALUE=URI:https://www.kcud229.org/food-service/menu-calendar-feeds/elem
 entary-lunch-menu/calendar/8451795/grilled-cheese-green-beans-peaches-and-
 1-milk
DTSTART;VALUE=DATE:20260306
DTEND;VALUE=DATE:20260307
END:VEVENT
END:VCALENDAR
