BEGIN:VCALENDAR
VERSION:2.0
PRODID:SchoolNow
CALSCALE:GREGORIAN
BEGIN:VEVENT
UID:b652e382-6bf1-11f0-bbf2-0a58a9feac02
DTSTAMP:20251216T214551Z
SUMMARY:Pepperoni Calzone\, Grape Tomatoes\, Fruit and 1% Milk
URL;VALUE=URI:https://www.kcud229.org/food-service/menu-calendar-feeds/elem
 entary-lunch-menu/calendar/8452584/pepperoni-calzone-grape-tomatoes-fruit-
 and-1-milk
DTSTART;VALUE=DATE:20260312
DTEND;VALUE=DATE:20260313
END:VEVENT
END:VCALENDAR
