BEGIN:VCALENDAR
VERSION:2.0
PRODID:SchoolNow
CALSCALE:GREGORIAN
BEGIN:VEVENT
UID:b652e72e-6bf1-11f0-82cc-0a58a9feac02
DTSTAMP:20251216T214551Z
SUMMARY:No School PTC
URL;VALUE=URI:https://www.kcud229.org/food-service/menu-calendar-feeds/elem
 entary-lunch-menu/calendar/8452586/no-school-ptc
DTSTART;VALUE=DATE:20260313
DTEND;VALUE=DATE:20260314
END:VEVENT
END:VCALENDAR
