BEGIN:VCALENDAR
VERSION:2.0
PRODID:SchoolNow
CALSCALE:GREGORIAN
BEGIN:VEVENT
UID:b652f142-6bf1-11f0-a4b7-0a58a9feac02
DTSTAMP:20251216T214551Z
SUMMARY:Pasta with Meatball Marinara\, Garlic toast\, Broccoli\, Fruit and 
 1% Milk
URL;VALUE=URI:https://www.kcud229.org/food-service/menu-calendar-feeds/elem
 entary-lunch-menu/calendar/8452598/pasta-with-meatball-marinara-garlic-toa
 st-broccoli-fruit-and-1-milk
DTSTART;VALUE=DATE:20260326
DTEND;VALUE=DATE:20260327
END:VEVENT
END:VCALENDAR
