BEGIN:VCALENDAR
VERSION:2.0
PRODID:SchoolNow
CALSCALE:GREGORIAN
BEGIN:VEVENT
UID:ae432b18-6c8a-11f0-a28a-0e4ef31d3a59
DTSTAMP:20251216T214551Z
SUMMARY:Max Sticks\, Baked Beans\, Fruit and 1% Milk
URL;VALUE=URI:https://www.kcud229.org/food-service/menu-calendar-feeds/elem
 entary-lunch-menu/calendar/8455211/max-sticks-baked-beans-fruit-and-1-milk
DTSTART;VALUE=DATE:20260408
DTEND;VALUE=DATE:20260409
END:VEVENT
END:VCALENDAR
