BEGIN:VCALENDAR
VERSION:2.0
PRODID:SchoolNow
CALSCALE:GREGORIAN
BEGIN:VEVENT
UID:ae432e56-6c8a-11f0-bcce-0e4ef31d3a59
DTSTAMP:20251216T214551Z
SUMMARY:Boiler burger with bun\, Cheesy Tater Tots\, Fruit and 1% Milk
LOCATION:null
URL;VALUE=URI:https://www.kcud229.org/food-service/menu-calendar-feeds/elem
 entary-lunch-menu/calendar/8455214/boiler-burger-with-bun-cheesy-tater-tot
 s-fruit-and-1-milk
DTSTART;VALUE=DATE:20260414
DTEND;VALUE=DATE:20260415
END:VEVENT
END:VCALENDAR
