BEGIN:VCALENDAR
VERSION:2.0
PRODID:SchoolNow
CALSCALE:GREGORIAN
BEGIN:VEVENT
UID:ae43304a-6c8a-11f0-8c1c-0e4ef31d3a59
DTSTAMP:20251216T214551Z
SUMMARY:Chicken Nacho's with Corn Chips\, Black Bean Salsa\, Fruit and 1 % 
 Milk
URL;VALUE=URI:https://www.kcud229.org/food-service/menu-calendar-feeds/elem
 entary-lunch-menu/calendar/8455216/chicken-nachos-with-corn-chips-black-be
 an-salsa-fruit-and-1-milk
DTSTART;VALUE=DATE:20260416
DTEND;VALUE=DATE:20260417
END:VEVENT
END:VCALENDAR
