BEGIN:VCALENDAR
VERSION:2.0
PRODID:SchoolNow
CALSCALE:GREGORIAN
BEGIN:VEVENT
UID:ae43322a-6c8a-11f0-871d-0e4ef31d3a59
DTSTAMP:20251216T214551Z
SUMMARY:Chicken Strips\, Veggies\, Fruit and 1% Milk
URL;VALUE=URI:https://www.kcud229.org/food-service/menu-calendar-feeds/elem
 entary-lunch-menu/calendar/8455218/chicken-strips-veggies-fruit-and-1-milk
DTSTART;VALUE=DATE:20260410
DTEND;VALUE=DATE:20260411
END:VEVENT
END:VCALENDAR
