BEGIN:VCALENDAR
VERSION:2.0
PRODID:SchoolNow
CALSCALE:GREGORIAN
BEGIN:VEVENT
UID:ae43331a-6c8a-11f0-a7f1-0e4ef31d3a59
DTSTAMP:20251216T214551Z
SUMMARY:Reg. Chicken with Bun\, Cauliflower\, Fruit & 1% Milk
URL;VALUE=URI:https://www.kcud229.org/food-service/menu-calendar-feeds/elem
 entary-lunch-menu/calendar/8455219/reg-chicken-with-bun-cauliflower-fruit-
 1-milk
DTSTART;VALUE=DATE:20260319
DTEND;VALUE=DATE:20260320
END:VEVENT
END:VCALENDAR
