BEGIN:VCALENDAR
VERSION:2.0
PRODID:SchoolNow
CALSCALE:GREGORIAN
BEGIN:VEVENT
UID:ae43340a-6c8a-11f0-b218-0e4ef31d3a59
DTSTAMP:20251216T214551Z
SUMMARY:Mini Corn Dogs\, Baby Carrots\, Fruit and 1% Milk
URL;VALUE=URI:https://www.kcud229.org/food-service/menu-calendar-feeds/elem
 entary-lunch-menu/calendar/8455220/mini-corn-dogs-baby-carrots-fruit-and-1
 -milk
DTSTART;VALUE=DATE:20260420
DTEND;VALUE=DATE:20260421
END:VEVENT
END:VCALENDAR
