BEGIN:VCALENDAR
VERSION:2.0
PRODID:SchoolNow
CALSCALE:GREGORIAN
BEGIN:VEVENT
UID:ae4334f0-6c8a-11f0-84f0-0e4ef31d3a59
DTSTAMP:20251216T214551Z
SUMMARY:Chicken Strips\, Mashed Potatoes with Gravy\,  Dinner Roll\,  apple
  sauce and 1% Milk
URL;VALUE=URI:https://www.kcud229.org/food-service/menu-calendar-feeds/elem
 entary-lunch-menu/calendar/8455221/chicken-strips-mashed-potatoes-with-gra
 vy-dinner-roll-apple-sauce-and-1-milk
DTSTART;VALUE=DATE:20260421
DTEND;VALUE=DATE:20260422
END:VEVENT
END:VCALENDAR
