BEGIN:VCALENDAR
VERSION:2.0
PRODID:SchoolNow
CALSCALE:GREGORIAN
BEGIN:VEVENT
UID:ae4336bc-6c8a-11f0-9e0b-0e4ef31d3a59
DTSTAMP:20251216T214551Z
SUMMARY:Cheese Pizzaboli\, Spinach & Romaine Salad\, Fruit and 1% Milk
URL;VALUE=URI:https://www.kcud229.org/food-service/menu-calendar-feeds/elem
 entary-lunch-menu/calendar/8455223/cheese-pizzaboli-spinach-romaine-salad-
 fruit-and-1-milk
DTSTART;VALUE=DATE:20260423
DTEND;VALUE=DATE:20260424
END:VEVENT
END:VCALENDAR
