BEGIN:VCALENDAR
VERSION:2.0
PRODID:SchoolNow
CALSCALE:GREGORIAN
BEGIN:VEVENT
UID:ae57df4a-6c8a-11f0-a307-0e4ef31d3a59
DTSTAMP:20251216T214551Z
SUMMARY:Mac and Cheese\, Garlic Toast\, Green Beans\, Fruit Cocktail & 1% M
 ilk
URL;VALUE=URI:https://www.kcud229.org/food-service/menu-calendar-feeds/elem
 entary-lunch-menu/calendar/8455229/mac-and-cheese-garlic-toast-green-beans
 -fruit-cocktail-1-milk
DTSTART;VALUE=DATE:20260501
DTEND;VALUE=DATE:20260502
END:VEVENT
END:VCALENDAR
