BEGIN:VCALENDAR
VERSION:2.0
PRODID:SchoolNow
CALSCALE:GREGORIAN
BEGIN:VEVENT
UID:ae57e99a-6c8a-11f0-a05c-0e4ef31d3a59
DTSTAMP:20251216T214551Z
SUMMARY:Super Nacho's with Corn Chips\, Black Bean Salsa\, Pineapple & 1 % 
 Milk
URL;VALUE=URI:https://www.kcud229.org/food-service/menu-calendar-feeds/elem
 entary-lunch-menu/calendar/8455238/super-nachos-with-corn-chips-black-bean
 -salsa-pineapple-1-milk
DTSTART;VALUE=DATE:20260305
DTEND;VALUE=DATE:20260306
END:VEVENT
END:VCALENDAR
